{"text_format":"1","workbook":"xlsx","n_sheets":29,"sheets":["Инструкция","Лог обновления","Титульный","Форма 3.1","Форма 3.1 (кварталы)","Форма 16","Субабоненты","Субабоненты (кварталы)","Комментарии","Проверка","TEHSHEET","AllSheetsInThisWorkbook","et_union_hor","modProv","modHTTP","modReestr","modfrmReestr","modfrmRegion","modfrmAuthorization","modfrmDateChoose","REESTR_ORG","modClassifierValidate","modHyp","modList00","modList03","modList04","modInstruction","modUpdTemplMain","modfrmCheckUpdates"],"not_rendered":{"charts":0,"images":27,"macros":1,"external_links":0,"defined_names":61,"comments":0,"pivot_tables":0},"unopened":[],"bounds":{"document_bytes":16777216,"sheet_cells":100000,"rows_first":2000,"rows_last":500,"rows_between":2000,"halvings":0,"cell_chars":16384,"cell_head_chars":4096},"cells_cut":0,"cells_raw":0,"read":"whole","date_system":"1900"}

{"sheet":"Инструкция","index":0,"n_rows":92,"n_cols":27,"rows_kept":92,"cut":false,"hidden":false,"merged":[[1,1,1,6],[2,1,2,2],[4,1,4,24],[6,4,12,23],[75,4,75,23],[13,4,18,23],[20,5,20,12],[21,5,21,12],[20,15,20,23],[34,4,38,23],[45,4,54,23],[57,7,57,23],[39,4,39,9],[39,10,39,23],[40,4,40,9],[40,10,40,23],[55,4,55,9],[55,10,55,23],[56,4,56,9],[56,10,56,23],[78,4,78,9],[78,10,78,23],[74,4,74,9],[74,10,74,23],[73,7,73,23],[76,4,76,23],[77,4,77,9],[58,7,58,23],[68,4,68,8],[68,9,68,23],[73,4,73,6],[77,10,77,23],[80,10,80,23],[81,4,81,9],[81,10,81,23],[89,5,89,18],[91,5,91,23],[87,4,87,23],[80,4,80,9]]}
[null,null,null,null,null,null,null,null,null,null,null,null,null,null,null,null,null,null,null,null,null,null,null,null,null,null," (требуется обновление)"]
[null,{"$f":"\"Код шаблона: \" & GetCode()","v":"Код шаблона: FORM3.1.2020.ORG"}]
[null,{"$f":"\"Версия \" & GetVersion()","v":"Версия 1.0"}]
[]
[null,{"$f":"Титульный!E5","v":"Предложения сетевой компании по технологическому расходу электроэнергии (мощности) - потерям в электрических сетях (организация)"}]
[]
[null,null,null,null,"• На рабочем месте должен быть установлен MS Office 2007 SP3, 2010, 2013, 2016 с полной версией MS Excel\n\n• Макросы во время работы должны быть включены (!)\n\n• Для корректной работы отчёта требуется выбрать низкий уровень безопасности\n(В меню MS Excel 2007/2010/2013/2016: Параметры Excel | Центр управления безопасностью | Параметры центра управления безопасностью | Параметры макросов | Включить все макросы | ОК)"]
[]
[]
[]
[]
[]
[]
[null,null,null,null,"• Если Вы работаете в табличном процессоре MS Excel 2007 и выше, то можете использовать для работы формат XLSB (Двоичная книга Excel). При работе в формате XLSB заметно быстрее происходит сохранение файла, а также уменьшается размер по сравнению с форматами XLS и XLSM\n\n• Не рекомендуется снимать защиту с листов и каким-либо образом модифицировать защищаемые формулы и расчётные поля, в противном случае, отчёт будет отклонён системой\n\n• При сохранении не следует выбирать формат XLSX (Книга Excel), так как в указанном формате макросы, необходимые для работы отчёта, безвозвратно удаляются"]
[]
[]
[]
[]
[]
[]
[null,null,null,null,"A"," - предназначенные для заполнения",null,null,null,null,null,null,null,null,"A"," - обязательные для заполнения"]
[null,null,null,null,"A"," - с формулами и константами"]
[]
[]
[]
[]
[]
[]
[]
[]
[]
[]
[]
[]
[null,null,null,null,"Выбор организации производится из Перечня сетевых организаций, который формируется ФАС России на основе Реестра регулируемых организаций.\n \nПри отсутствии организации следует обратиться в регулирующий орган соответствующего субъекта РФ для проверки наличия/добавления в Реестр регулируемых организаций.\n\nДля добавления организации в Перечень сетевых организаций и/или корректировки информации необходимо обратиться к ответственным специалистам управления регулирования электроэнергетики ФАС России."]
[]
[]
[]
[]
[]
[]
[]
[]
[]
[]
[null,null,null,null,"• При сохранении шаблона осуществляется проверка корректности данных, в том числе на наличие значений в ячейках, обязательных для заполнения\n\n• Если какая-то ячейка не удовлетворяет условию проверки, на лист «Проверка» добавляется гиперссылка на данную ячейку и указывается причина ошибки\n\n• В колонке «Статус» для каждого сообщения возможны 2 значения: ошибка и предупреждение\n\n• При наличии сообщений со статусом «Ошибка» шаблон будет отклонён системой и не будет загружен в хранилище данных, сообщения со статусом «Предупреждение» носят информационный характер, и такой шаблон будет принят системой"]
[]
[]
[]
[]
[]
[]
[]
[]
[]
[null,null,null,null,"Консультации:",null,null,null,null,null,"Обратиться за помощью"]
[null,null,null,null,"Дистрибутивы:",null,null,null,null,null,"Перейти"]
[]
[]
[]
[]
[]
[]
[]
[]
[]
[]
[]
[]
[]
[]
[]
[]
[]
[null,null,null,null,"Отчётные формы:",null,null,null,null,null,"Перейти к разделу"]
[]
[null,null,null,null,"Контакты специалистов ЦА ФАС России:"]
[null,null,null,null,"ФИО:",null,null,null,null,null,"Пальянов Максим Николаевич"]
[null,null,null,null,"E-mail:",null,null,null,null,null,"palyanovmn@fas.gov.ru"]
[]
[]
[]
[]
[]
[]
[]
[]
[null,null,null,null,"При наличии подключения к Интернет, можно автоматически проверять наличие доступных обновлений. Выберите способ оповещения о наличии обновлений для отчёта:"]
[]
[null,null,null,null,null,"проверять доступные обновления (рекомендуется)",null,null,null,null,null,null,null,null,null,null,null,null,null,null,null,null,null,null,null,null,"y"]
[]
[null,null,null,null,null,"никогда не проверять наличие обновлений (не рекомендуется)"]

{"sheet":"Лог обновления","index":1,"n_rows":13,"n_cols":3,"rows_kept":13,"cut":false,"hidden":true,"merged":[]}
["Дата/Время","Сообщение","Статус"]
["2019-03-26T10:11:40","Проверка доступных обновлений...","Информация"]
["2019-03-26T10:11:42","Нет доступных обновлений для отчёта с кодом FORM3.1.2020.ORG!","Информация"]
["2019-03-26T10:14:06","Проверка доступных обновлений...","Информация"]
["2019-03-26T10:14:07","Нет доступных обновлений для отчёта с кодом FORM3.1.2020.ORG!","Информация"]
["2019-03-26T10:14:28","Проверка доступных обновлений...","Информация"]
["2019-03-26T10:14:29","Нет доступных обновлений для отчёта с кодом FORM3.1.2020.ORG!","Информация"]
["2019-03-26T11:40:27","Проверка доступных обновлений...","Информация"]
["2019-03-26T11:40:29","Нет доступных обновлений для отчёта с кодом FORM3.1.2020.ORG!","Информация"]
["2019-03-28T10:26:39","Проверка доступных обновлений...","Информация"]
["2019-03-28T10:26:41","Нет доступных обновлений для отчёта с кодом FORM3.1.2020.ORG!","Информация"]
["2019-03-29T09:32:40","Проверка доступных обновлений...","Информация"]
["2019-03-29T09:32:41","Нет доступных обновлений для отчёта с кодом FORM3.1.2020.ORG!","Информация"]

{"sheet":"Титульный","index":2,"n_rows":30,"n_cols":6,"rows_kept":30,"cut":false,"hidden":false,"merged":[[4,4,4,5]]}
[]
[]
[]
[null,null,null,null,null,{"$f":"version","v":"Версия 1.0"}]
[null,null,null,null,"Предложения сетевой компании по технологическому расходу электроэнергии (мощности) - потерям в электрических сетях (организация)"]
[]
[null,null,null,null,"Субъект РФ","Приморский край"]
[]
[null,null,null,null,"Период регулирования",2020]
[]
[null,null,null,null,"По данным участника","участник"]
[]
[null,null,null,null,"Наименование организации","Хорольское муниципальное унитарное предприятие электрических сетей"]
[null,null,null,null,"ИНН","2532002210"]
[null,null,null,null,"КПП","253201001"]
[null,null,null,null,"Год окончания учета в СПБ",""]
[null,null,null,null,null,"Адрес организации"]
[null,null,null,null,"Юридический адрес","692254, Приморский край, Хорольский район, с. Хороль, ул. Кирова, 8"]
[null,null,null,null,"Почтовый адрес","692254, Приморский край, Хорольский район, с. Хороль, ул. Кирова, 8"]
[null,null,null,null,null,"Руководитель"]
[null,null,null,null,"Фамилия, имя, отчество","Савватеев Андрей Григорьевич"]
[null,null,null,null,"Должность","директор"]
[null,null,null,null,null,"Главный бухгалтер"]
[null,null,null,null,"Фамилия, имя, отчество","Овчинникова Елена Михайловна"]
[null,null,null,null,"Должность","Главный бухгалтер"]
[null,null,null,null,null,"Должностное лицо, ответственное за составление формы"]
[null,null,null,null,"Фамилия, имя, отчество","Куцев Алексей Анатольевич"]
[null,null,null,null,"Должность","главный инженер"]
[null,null,null,null,"Контактный телефон","(42347)23-4-23"]
[null,null,null,null,"e-mail","horolset1@mail.ru"]

{"sheet":"Форма 3.1","index":3,"n_rows":44,"n_cols":23,"rows_kept":44,"cut":false,"hidden":false,"merged":[[43,12,43,15],[41,12,41,15],[7,3,7,9],[44,3,44,6],[43,3,43,10],[41,3,41,6]]}
[null,0,0,0,{"$f":"god","v":2020},null,"Год","Год","Год","Январь","Февраль","Март","Апрель","Май","Июнь","Июль","Август","Сентябрь","Октябрь","Ноябрь","Декабрь","Год"]
[null,null,null,null,null,null,{"$f":"$E$1-2","v":2018},{"$f":"$E$1-2","v":2018},{"$f":"$E$1-1","v":2019},{"$f":"$E$1","v":2020},2020,2020,2020,2020,2020,2020,2020,2020,2020,2020,2020,2020]
[null,null,null,null,null,null,"План","Факт","План","План","План","План","План","План","План","План","План","План","План","План","План","План"]
[]
[]
[]
[null,null,null,null,null,null,null,null,null,null,null,null,null,null,null,null,null,null,null,null,null,null,"Форма 3.1"]
[null,null,null,{"$f":"\"Предложения \" & org & \" по технологическому расходу электроэнергии (мощности) - потерям в электрических сетях на \"& god &\" год в регионе: \"&region_name","v":"Предложения Хорольское муниципальное унитарное предприятие электрических сетей по технологическому расходу электроэнергии (мощности) - потерям в электрических сетях на 2020 год в регионе: Приморский край"}]
[]
[null,null,null,"№ п/п","Наименование","Ед. изм.",{"$f":"G3&\" \"&G2&\" \"&G1","v":"План 2018 Год"},"Факт 2018 Год","План 2019 Год","План 2020 Январь","План 2020 Февраль","План 2020 Март","План 2020 Апрель","План 2020 Май","План 2020 Июнь","План 2020 Июль","План 2020 Август","План 2020 Сентябрь","План 2020 Октябрь","План 2020 Ноябрь","План 2020 Декабрь","План 2020 Год","Комментарии"]
[null,null,null,1,2,3,4,5,6,7,8,9,10,11,12,13,14,15,16,17,18,19,20]
[null,null,null,"Предложение участника"]
[null,null,null,null,"Электроэнергия"]
["L1","Отпуск в сеть-энергия",null,1,"Поступление в сеть","млн.кВтч",46.510750000000002,45.831743000000003,46.9,5.5735395647096038,5.0329581561737093,4.7228749301143829,3.7709383275601014,3.0195560348343733,2.607206027771201,2.6082008408159854,2.608399803424942,2.6090961725562916,3.6113703151766687,4.8150940993659059,5.6774800000000001,{"$f":"SUM(J14:U14)","v":46.656714272503173}]
["L2","Потери в электрической сети -энергия",null,2,"Потери в электрической сети, в т.ч. относимые на:","млн.кВтч",{"$f":"SUM(G16:G17)","v":4.6351990000000001},4.1509,4.6584000000000003,0.55359562375227722,0.49990200615562791,0.46910277795379579,0.37455102477338775,0.29991946538665748,0.25896251931781106,0.25906132980289875,0.25908109189991624,0.25915025923947771,0.35870182296532271,0.47826250992142444,0.56391957847433694,{"$f":"SUM(J15:U15)","v":4.6342100096429339}]
["L2.1","собственное потребление",null,"2.1","собственное потребление","млн.кВтч",4.4831989999999999,4.0512829999999997,4.5168340000000002,0.53676814416227747,0.48470663530250135,0.45484360197237217,0.36316590998135312,0.29080290364754952,0.25109091354380053,0.25118672051630658,0.25120588191080773,0.25127294679156204,0.3477984715913861,0.46372490832368107,0.54677828473928303,{"$f":"SUM(J16:U16)","v":4.493345322482881}]
["L2.2","передачу сторонним потребителям (субабонентам)",null,"2.2","передачу сторонним потребителям (субабонентам)","млн.кВтч",0.152,9.9616999999999997E-2,0.141566,1.6827479589999778E-2,1.5195370853126559E-2,1.4259175981423613E-2,1.1385114792034618E-2,9.1165617391079715E-3,7.8716057740105348E-3,7.8746092865921921E-3,7.8752099891085236E-3,7.8773124479156846E-3,1.0903351373936599E-2,1.4537601597743356E-2,1.7141293735053929E-2,{"$f":"SUM(J17:U17)","v":0.14086468716005338}]
["L3","Относительные потери-энергия",null,3,"Относительные потери","%",{"$f":"IF(G14=0,0,G15/G14*100)","v":9.9658659557199147},9.0568233462122514,9.9326226012793182,9.9325682956934571,9.9325682956934589,9.9325682956934589,9.9325682956934589,9.9325682956934589,9.9325682956934571,9.9325682956934571,9.9325682956934571,9.9325682956934589,9.9325682956934589,9.9325682956934589,9.9325682956934571,9.9325682956934553]
["L4","Полезный отпуск-энергия",null,4,"Отпуск из сети (полезный отпуск ), в т.ч. для","млн.кВтч",{"$f":"G14-G15","v":41.875551000000002},41.680843000000003,42.241599999999998,5.0199439409573268,4.5330561500180817,4.2537721521605869,3.3963873027867137,2.719636569447716,2.3482435084533901,2.3491395110130866,2.3493187115250258,2.3499459133168137,3.2526684922113462,4.3368315894444818,5.1135604215256629,{"$f":"SUM(J19:U19)","v":42.022504262860224}]
["L4.1","собственного потребления",null,"4.1","собственного потребления","млн.кВтч",40.503981000000003,40.680579999999999,40.957939000000003,4.8875404737261992,4.4134945854916614,4.1415768391488115,3.3068059329073165,2.6479048298827568,2.2863074418201594,2.2871798118757987,2.2873542858869262,2.2879649449258745,3.1668777759827309,4.2224455433065984,4.97868777400826,{"$f":"SUM(J20:U20)","v":40.914140238963093}]
["L4.2","передачи сторонним потребителям (субабонентам)",null,"4.2","передачи сторонним потребителям (субабонентам)","млн.кВтч",1.3708199999999999,1.0002500000000001,1.2836860000000001,0.13240346514972731,0.11956156264689614,0.11219531124805096,8.9581368471166309E-2,7.1731738437326831E-2,6.1936065659587577E-2,6.1959698163273312E-2,6.1964424664010455E-2,6.1980967416590482E-2,8.5790714879973598E-2,0.11438604433971908,0.1348726453971876,{"$f":"SUM(J21:U21)","v":1.1083640064735096}]
[null,null,null,null,"Мощность"]
["L5","Отпуск в сеть-энергия",null,"5","Поступление в сеть","МВт",7.1559999999999997,7.0515299999999996,7.1920000000000002,10.256704111154887,9.2618993751391869,8.6912688337036066,6.9394678548787558,5.5567368701296589,4.7979099229848163,4.7997406273205092,4.8001067681876473,4.801388261222634,6.6458228794335623,8.8609751256223692,10.447980458542544,{"$f":"SUM(J23:U23)/12","v":7.1550000906933491}]
["L6","Потери в электрической сети -энергия",null,"6","Потери в электрической сети, в т.ч. относимые на:","МВт",{"$f":"SUM(G25:G26)","v":0.71319999999999995},0.63859999999999995,0.71430000000000005,1.0187541407276579,0.9199444809141053,0.86326621266993109,0.68926738404352605,0.55192668463760763,0.47655567986632025,0.47673751582475526,0.47677388301644213,0.47690116818734674,0.66010089631056001,0.8801224060168511,1.0377527945654448,0.71067527056504554]
["L6.1","собственное потребление",null,"6.1","собственное потребление","МВт",0.68979999999999997,0.62329999999999997,0.69259999999999999,0.98778737767030833,0.89198120535280467,0.83702576937311046,0.66831593078161389,0.53514993528766774,0.46206996026815123,0.46224626901367483,0.46228153076277945,0.46240494688464606,0.64003600799963467,0.85336959008314472,1.0062085351443668,{"$f":"SUM(J25:U25)/12","v":0.68907308821849178}]
["L6.2","передачу сторонним потребителям (субабонентам)",null,"6.2","передачу сторонним потребителям (субабонентам)","МВт",2.3400000000000001E-2,1.5299999999999999E-2,2.1700000000000001E-2,3.0966763057349595E-2,2.7963275561300651E-2,2.6240443296820615E-2,2.0951453261912212E-2,1.6776749349939887E-2,1.4485719598169033E-2,1.4491246811080419E-2,1.4492352253662698E-2,1.4496221302700668E-2,2.0064888310925368E-2,2.6752815933706407E-2,3.1544259421077865E-2,{"$f":"SUM(J26:U26)/12","v":2.1602182346553783E-2}]
["L7","Относительные потери-энергия",null,"7","Относительные потери","%",{"$f":"IF(G23=0,0,G24/G23*100)","v":9.9664617104527657},9.0561906423145047,9.931868743047831,9.9325682956934589,9.9325682956934571,9.9325682956934589,9.9325682956934553,9.9325682956934607,9.9325682956934571,9.9325682956934607,9.9325682956934589,9.9325682956934589,9.9325682956934571,9.9325682956934589,9.9325682956934589,9.9325682956934536]
["L8","Полезный отпуск-энергия",null,"8","Отпуск из сети (полезный отпуск), в т.ч. для","МВт",{"$f":"G23-G24","v":6.4428000000000001},6.4129299999999994,6.4777000000000005,9.2379499704272288,8.341954894225081,7.8280026210336757,6.2502004708352299,5.004810185492051,4.3213542431184964,4.3230031114957539,4.3233328851712054,4.3244870930352874,5.9857219831230024,7.9808527196055179,9.4102276639770999,{"$f":"SUM(J28:U28)/12","v":6.4443248201283021}]
["L8.1","собственного потребления",null,"8.1","собственного потребления","МВт",6.2317999999999998,6.2590000000000003,6.2808000000000002,8.9942945390960585,8.1219317695703381,7.621535237989244,6.0853483882300221,4.8728058784347033,4.2073764195307461,4.2089817982012017,4.2093028739352913,4.2104266390046119,5.8278456494889008,7.7703538407405031,9.1620283245423977,{"$f":"SUM(J29:U29)/12","v":6.2743526132303344}]
["L8.2","передачи сторонним потребителям (субабонентам)",null,"8.2","передачи сторонним потребителям (субабонентам)","МВт",0.2109,0.15390000000000001,0.19689999999999999,0.24365542750087532,0.2200231211959498,0.20646737979873728,0.16485208001371113,0.13200430498222376,0.11397782179600438,0.11402131150212309,0.11403000944334685,0.11406045223762998,0.15787633115226457,0.21049887555594485,0.24819933553297482,{"$f":"SUM(J30:U30)/12","v":0.16997220422598217}]
["L9","Заявленная мощность потребителей",null,"9","Заявленная мощность ","МВт",{"$f":"SUM(G32:G33)","v":7.157},7.0508090000000001,7.1920000000000002,7.4761000000000006,7.4761000000000006,7.4761000000000006,7.4761000000000006,7.4761000000000006,7.4761000000000006,6.8331,6.8331,6.8331,6.8331,6.8331,6.8331,7.1546000000000003]
["L9.1","собственное потребление",null,"9.1","собственное потребление","МВт",6.9470000000000001,6.8975999999999997,6.9820000000000002,7.2380000000000004,7.2380000000000004,7.2380000000000004,7.2380000000000004,7.2380000000000004,7.2380000000000004,6.6550000000000002,6.6550000000000002,6.6550000000000002,6.6550000000000002,6.6550000000000002,6.6550000000000002,{"$f":"SUM(J32:U32)/12","v":6.9465000000000003}]
["L9.2","сторонних потребителей (субабонентов)",null,"9.2",{"$f":"\"сторонних потребителей (субабонентов)\"&IF(regionException_flag = 1, \", в т.ч.\",\"\")","v":"сторонних потребителей (субабонентов)"},"МВт",{"$f":"Субабоненты!H13","v":0.21},{"$f":"Субабоненты!I13","v":0.15320899999999998},{"$f":"Субабоненты!J13","v":0.21},{"$f":"Субабоненты!K13","v":0.23809999999999998},{"$f":"Субабоненты!L13","v":0.23809999999999998},{"$f":"Субабоненты!M13","v":0.23809999999999998},{"$f":"Субабоненты!N13","v":0.23809999999999998},{"$f":"Субабоненты!O13","v":0.23809999999999998},{"$f":"Субабоненты!P13","v":0.23809999999999998},{"$f":"Субабоненты!Q13","v":0.17809999999999998},{"$f":"Субабоненты!R13","v":0.17809999999999998},{"$f":"Субабоненты!S13","v":0.17809999999999998},{"$f":"Субабоненты!T13","v":0.17809999999999998},{"$f":"Субабоненты!U13","v":0.17809999999999998},{"$f":"Субабоненты!V13","v":0.17809999999999998},{"$f":"Субабоненты!W13","v":0.20810000000000006}]
[]
[null,null,null,"Предложение регулятора"]
[null,null,null,2,"Потери электроэнергии в электрической сети","млн.кВтч",null,null,null,null,null,null,null,null,null,null,null,null,null,null,null,{"$f":"SUM(J36:U36)","v":0}]
[null,null,null,6,"Потери мощности в электрической сети","МВт",null,null,null,null,null,null,null,null,null,null,null,null,null,null,null,{"$f":"SUM(J37:U37)/12","v":0}]
[null,null,null,"Предложение ФАС России"]
[null,null,null,2,"Потери электроэнергии в электрической сети","млн.кВтч",null,null,null,null,null,null,null,null,null,null,null,null,null,null,null,{"$f":"SUM(J39:U39)","v":0}]
[null,null,null,6,"Потери мощности в электрической сети","МВт",null,null,null,null,null,null,null,null,null,null,null,null,null,null,null,{"$f":"SUM(J40:U40)/12","v":0}]
[]
[null,null,null,"Руководитель организации "]
[]
[null,null,null,"Руководитель органа исполнительной власти субъекта Российской Федерации в области государственного регулирования тарифов"]

{"sheet":"Форма 3.1 (кварталы)","index":4,"n_rows":44,"n_cols":10,"rows_kept":44,"cut":false,"hidden":false,"merged":[[7,3,7,9],[44,3,44,6],[41,6,41,9],[43,6,43,9],[41,3,41,5],[43,3,43,5]]}
[null,0,0,0,{"$f":"god","v":2020},null,"Год","Год","Год","Январь"]
[null,null,null,null,null,null,{"$f":"$E$1-2","v":2018},{"$f":"$E$1-2","v":2018},{"$f":"$E$1-1","v":2019},{"$f":"$E$1","v":2020}]
[null,null,null,null,null,null,"План","Факт","План","План"]
[]
[]
[]
[]
[null,null,null,{"$f":"\"Предложения \" & org & \" по технологическому расходу электроэнергии (мощности) - потерям в электрических сетях на \"& god &\" год в регионе: \"&region_name & \" (поквартально)\"","v":"Предложения Хорольское муниципальное унитарное предприятие электрических сетей по технологическому расходу электроэнергии (мощности) - потерям в электрических сетях на 2020 год в регионе: Приморский край (поквартально)"}]
[]
[null,null,null,"№ п/п","Наименование","Ед. изм.",{"$f":"\"I квартал \" & god","v":"I квартал 2020"},{"$f":"\"II квартал \" & god","v":"II квартал 2020"},{"$f":"\"III квартал \" & god","v":"III квартал 2020"},{"$f":"\"IV квартал \" & god","v":"IV квартал 2020"}]
[null,null,null,1,2,3,4,5,6,7]
[null,null,null,"Предложение участника"]
[null,null,null,null,"Электроэнергия"]
["L1","Отпуск в сеть-энергия",null,1,"Поступление в сеть","млн.кВтч",{"$f":"SUM('Форма 3.1'!J14:L14)","v":15.329372650997696},{"$f":"SUM('Форма 3.1'!M14:O14)","v":9.3977003901656744},{"$f":"SUM('Форма 3.1'!P14:R14)","v":7.825696816797219},{"$f":"SUM('Форма 3.1'!S14:U14)","v":14.103944414542575}]
["L2","Потери в электрической сети -энергия",null,2,"Потери в электрической сети, в т.ч. относимые на:","млн.кВтч",{"$f":"SUM('Форма 3.1'!J15:L15)","v":1.5226004078617008},{"$f":"SUM('Форма 3.1'!M15:O15)","v":0.93343300947785623},{"$f":"SUM('Форма 3.1'!P15:R15)","v":0.77729268094229265},{"$f":"SUM('Форма 3.1'!S15:U15)","v":1.400883911361084}]
["L2.1","собственное потребление",null,"2.1","собственное потребление","млн.кВтч",{"$f":"SUM('Форма 3.1'!J16:L16)","v":1.4763183814371512},{"$f":"SUM('Форма 3.1'!M16:O16)","v":0.90505972717270311},{"$f":"SUM('Форма 3.1'!P16:R16)","v":0.75366554921867634},{"$f":"SUM('Форма 3.1'!S16:U16)","v":1.3583016646543502}]
["L2.2","передачу сторонним потребителям (субабонентам)",null,"2.2","передачу сторонним потребителям (субабонентам)","млн.кВтч",{"$f":"SUM('Форма 3.1'!J17:L17)","v":4.6282026424549948E-2},{"$f":"SUM('Форма 3.1'!M17:O17)","v":2.8373282305153125E-2},{"$f":"SUM('Форма 3.1'!P17:R17)","v":2.3627131723616402E-2},{"$f":"SUM('Форма 3.1'!S17:U17)","v":4.2582246706733884E-2}]
["L3","Относительные потери-энергия",null,3,"Относительные потери","%",{"$f":"IF(G14=0,0,G15/G14*100)","v":9.9325682956934571},{"$f":"IF(H14=0,0,H15/H14*100)","v":9.9325682956934589},{"$f":"IF(I14=0,0,I15/I14*100)","v":9.9325682956934571},{"$f":"IF(J14=0,0,J15/J14*100)","v":9.9325682956934571}]
["L4","Полезный отпуск-энергия",null,4,"Отпуск из сети (полезный отпуск ), в т.ч. для","млн.кВтч",{"$f":"SUM('Форма 3.1'!J19:L19)","v":13.806772243135995},{"$f":"SUM('Форма 3.1'!M19:O19)","v":8.4642673806878204},{"$f":"SUM('Форма 3.1'!P19:R19)","v":7.048404135854927},{"$f":"SUM('Форма 3.1'!S19:U19)","v":12.70306050318149}]
["L4.1","собственного потребления",null,"4.1","собственного потребления","млн.кВтч",{"$f":"SUM('Форма 3.1'!J20:L20)","v":13.442611898366671},{"$f":"SUM('Форма 3.1'!M20:O20)","v":8.2410182046102332},{"$f":"SUM('Форма 3.1'!P20:R20)","v":6.862499042688599},{"$f":"SUM('Форма 3.1'!S20:U20)","v":12.368011093297589}]
["L4.2","передачи сторонним потребителям (субабонентам)",null,"4.2","передачи сторонним потребителям (субабонентам)","млн.кВтч",{"$f":"SUM('Форма 3.1'!J21:L21)","v":0.36416033904467437},{"$f":"SUM('Форма 3.1'!M21:O21)","v":0.22324917256808074},{"$f":"SUM('Форма 3.1'!P21:R21)","v":0.18590509024387425},{"$f":"SUM('Форма 3.1'!S21:U21)","v":0.33504940461688026}]
[null,null,null,null,"Мощность"]
["L5","Отпуск в сеть-энергия",null,"5","Поступление в сеть","МВт",{"$f":"SUM('Форма 3.1'!J23:L23)/3","v":9.4032907733325608},{"$f":"SUM('Форма 3.1'!M23:O23)/3","v":5.7647048826644109},{"$f":"SUM('Форма 3.1'!P23:R23)/3","v":4.8004118855769304},{"$f":"SUM('Форма 3.1'!S23:U23)/3","v":8.6515928211994915}]
["L6","Потери в электрической сети -энергия",null,"6","Потери в электрической сети, в т.ч. относимые на:","МВт",{"$f":"SUM('Форма 3.1'!J24:L24)/3","v":0.93398827810389806},{"$f":"SUM('Форма 3.1'!M24:O24)/3","v":0.57258324951581796},{"$f":"SUM('Форма 3.1'!P24:R24)/3","v":0.47680418900951471},{"$f":"SUM('Форма 3.1'!S24:U24)/3","v":0.85932536563095197}]
["L6.1","собственное потребление",null,"6.1","собственное потребление","МВт",{"$f":"SUM('Форма 3.1'!J25:L25)/3","v":0.90559811746540786},{"$f":"SUM('Форма 3.1'!M25:O25)/3","v":0.55517860877914427},{"$f":"SUM('Форма 3.1'!P25:R25)/3","v":0.46231091555370013},{"$f":"SUM('Форма 3.1'!S25:U25)/3","v":0.83320471107571537}]
["L6.2","передачу сторонним потребителям (субабонентам)",null,"6.2","передачу сторонним потребителям (субабонентам)","МВт",{"$f":"SUM('Форма 3.1'!J26:L26)/3","v":2.8390160638490286E-2},{"$f":"SUM('Форма 3.1'!M26:O26)/3","v":1.7404640736673711E-2},{"$f":"SUM('Форма 3.1'!P26:R26)/3","v":1.4493273455814595E-2},{"$f":"SUM('Форма 3.1'!S26:U26)/3","v":2.6120654555236544E-2}]
["L7","Относительные потери-энергия",null,"7","Относительные потери","%",{"$f":"IF(G23=0,0,G24/G23*100)","v":9.9325682956934571},{"$f":"IF(H23=0,0,H24/H23*100)","v":9.9325682956934571},{"$f":"IF(I23=0,0,I24/I23*100)","v":9.9325682956934589},{"$f":"IF(J23=0,0,J24/J23*100)","v":9.9325682956934589}]
["L8","Полезный отпуск-энергия",null,"8","Отпуск из сети (полезный отпуск), в т.ч. для","МВт",{"$f":"SUM('Форма 3.1'!J28:L28)/3","v":8.4693024952286624},{"$f":"SUM('Форма 3.1'!M28:O28)/3","v":5.1921216331485924},{"$f":"SUM('Форма 3.1'!P28:R28)/3","v":4.3236076965674153},{"$f":"SUM('Форма 3.1'!S28:U28)/3","v":7.7922674555685392}]
["L8.1","собственного потребления",null,"8.1","собственного потребления","МВт",{"$f":"SUM('Форма 3.1'!J29:L29)/3","v":8.2459205155518802},{"$f":"SUM('Форма 3.1'!M29:O29)/3","v":5.0551768953984899},{"$f":"SUM('Форма 3.1'!P29:R29)/3","v":4.2095704370470353},{"$f":"SUM('Форма 3.1'!S29:U29)/3","v":7.5867426049239342}]
["L8.2","передачи сторонним потребителям (субабонентам)",null,"8.2","передачи сторонним потребителям (субабонентам)","МВт",{"$f":"SUM('Форма 3.1'!J30:L30)/3","v":0.22338197616518748},{"$f":"SUM('Форма 3.1'!M30:O30)/3","v":0.1369447355973131},{"$f":"SUM('Форма 3.1'!P30:R30)/3","v":0.11403725772769997},{"$f":"SUM('Форма 3.1'!S30:U30)/3","v":0.20552484741372809}]
["L9","Заявленная мощность потребителей",null,"9","Заявленная мощность ","МВт",{"$f":"SUM('Форма 3.1'!J31:L31)/3","v":7.4760999999999997},{"$f":"SUM('Форма 3.1'!M31:O31)/3","v":7.4760999999999997},{"$f":"SUM('Форма 3.1'!P31:R31)/3","v":6.8330999999999991},{"$f":"SUM('Форма 3.1'!S31:U31)/3","v":6.8330999999999991}]
["L9.1","собственное потребление",null,"9.1","собственное потребление","МВт",{"$f":"SUM('Форма 3.1'!J32:L32)/3","v":7.2380000000000004},{"$f":"SUM('Форма 3.1'!M32:O32)/3","v":7.2380000000000004},{"$f":"SUM('Форма 3.1'!P32:R32)/3","v":6.6550000000000002},{"$f":"SUM('Форма 3.1'!S32:U32)/3","v":6.6550000000000002}]
["L9.2","сторонних потребителей (субабонентов)",null,"9.2",{"$f":"\"сторонних потребителей (субабонентов)\"&IF(regionException_flag = 1, \", в т.ч.\",\"\")","v":"сторонних потребителей (субабонентов)"},"МВт",{"$f":"SUM('Форма 3.1'!J33:L33)/3","v":0.23809999999999998},{"$f":"SUM('Форма 3.1'!M33:O33)/3","v":0.23809999999999998},{"$f":"SUM('Форма 3.1'!P33:R33)/3","v":0.17810000000000001},{"$f":"SUM('Форма 3.1'!S33:U33)/3","v":0.17810000000000001}]
[]
[null,null,null,"Предложение регулятора"]
[null,null,null,2,"Потери электроэнергии в электрической сети","млн.кВтч",{"$f":"SUM('Форма 3.1'!J36:L36)","v":0},{"$f":"SUM('Форма 3.1'!M36:O36)","v":0},{"$f":"SUM('Форма 3.1'!P36:R36)","v":0},{"$f":"SUM('Форма 3.1'!S36:U36)","v":0}]
[null,null,null,6,"Потери мощности в электрической сети","МВт",{"$f":"SUM('Форма 3.1'!J37:L37)/3","v":0},{"$f":"SUM('Форма 3.1'!M37:O37)/3","v":0},{"$f":"SUM('Форма 3.1'!P37:R37)/3","v":0},{"$f":"SUM('Форма 3.1'!S37:U37)/3","v":0}]
[null,null,null,"Предложение ФАС России"]
[null,null,null,2,"Потери электроэнергии в электрической сети","млн.кВтч",{"$f":"SUM('Форма 3.1'!J39:L39)","v":0},{"$f":"SUM('Форма 3.1'!M39:O39)","v":0},{"$f":"SUM('Форма 3.1'!P39:R39)","v":0},{"$f":"SUM('Форма 3.1'!S39:U39)","v":0}]
[null,null,null,6,"Потери мощности в электрической сети","МВт",{"$f":"SUM('Форма 3.1'!J40:L40)/3","v":0},{"$f":"SUM('Форма 3.1'!M40:O40)/3","v":0},{"$f":"SUM('Форма 3.1'!P40:R40)/3","v":0},{"$f":"SUM('Форма 3.1'!S40:U40)/3","v":0}]
[]
[null,null,null,"Руководитель организации "]
[]
[null,null,null,"Руководитель органа исполнительной власти субъекта Российской Федерации в области государственного регулирования тарифов"]

{"sheet":"Форма 16","index":5,"n_rows":14,"n_cols":13,"rows_kept":14,"cut":false,"hidden":false,"merged":[[10,3,10,7],[11,11,11,12],[8,3,8,12],[10,8,10,12],[11,8,12,8],[11,9,11,10],[11,3,12,3],[11,4,11,5],[11,6,11,7]]}
[null,null,0,null,0,0,{"$f":"god","v":2020},null,"Год","Год","Год",null,"Январь"]
[null,null,null,null,null,null,null,null,{"$f":"G1-2","v":2018},{"$f":"G1-2","v":2018},{"$f":"G1-1","v":2019},null,{"$f":"$G$1","v":2020}]
[null,null,null,null,null,null,null,null,"План","Факт","План",null,"План"]
[]
[]
[]
[]
[]
[null,null,null,{"$f":"\"Информация по нормативам потерь электрической энергии при передаче по электрическим сетям, утвержденным Минэнерго России по \" &org& \" на \"&god&\" год в регионе: \"&region_name","v":"Информация по нормативам потерь электрической энергии при передаче по электрическим сетям, утвержденным Минэнерго России по Хорольское муниципальное унитарное предприятие электрических сетей на 2020 год в регионе: Приморский край"}]
[null,null,null,{"$f":"\"Если в \" & god-1 & \" году организация не получала норматив, то укажите год, когда этот норматив был получен в последний раз.\"","v":"Если в 2019 году организация не получала норматив, то укажите год, когда этот норматив был получен в последний раз."}]
[null,null,null,"2019",null,null,null,null,{"$f":"IF(god=\"\",\"(Не определено)\",god)","v":2020}]
[null,null,null,"Отпуск э/энергии в сеть (млн.кВтч)","Норматив потерь электроэнергии",null,"Приказ",null,"Отпуск э/энергии в сеть (млн.кВтч)","Норматив потерь электроэнергии",null,"Приказ"]
[null,null,null,null,"Абсол. величина (млн.кВтч)","%","Дата","Номер",null,"Абсол. величина (млн.кВтч)","%","Дата","Номер"]
[null,null,null,1,2,3,4,5,6,7,8,9,10]

{"sheet":"Субабоненты","index":6,"n_rows":22,"n_cols":23,"rows_kept":22,"cut":false,"hidden":false,"merged":[[19,2,20,2],[19,3,20,3],[19,4,20,4],[19,23,20,23],[15,23,16,23],[17,2,18,2],[17,3,18,3],[17,4,18,4],[17,23,18,23],[8,3,8,6],[12,3,13,4],[15,2,16,2],[15,3,16,3],[15,4,16,4]]}
[null,null,0,null,0,0,{"$f":"god","v":2020},"Год","Год","Год","Январь","Февраль","Март","Апрель","Май","Июнь","Июль","Август","Сентябрь","Октябрь","Ноябрь","Декабрь","Год"]
[null,null,null,null,null,null,null,{"$f":"G1-2","v":2018},{"$f":"G1-2","v":2018},{"$f":"G1-1","v":2019},{"$f":"$G$1","v":2020},2020,2020,2020,2020,2020,2020,2020,2020,2020,2020,2020,2020]
[null,null,null,null,null,null,null,"План","Факт","План","План","План","План","План","План","План","План","План","План","План","План","План","План"]
[]
[]
[null,null,null,null,null,null,null,null,null,null,null,null,null,null,null,null,null,null,null,null,null,null,"Форма 3.1"]
[]
[]
[null,null,null,{"$f":"\"Предложения \" &org& \" по технологическому расходу электроэнергии (мощности) - потерям в электрических сетях на \"&god&\" год в регионе: \"&region_name","v":"Предложения Хорольское муниципальное унитарное предприятие электрических сетей по технологическому расходу электроэнергии (мощности) - потерям в электрических сетях на 2020 год в регионе: Приморский край"}]
[]
[null,null,null,"№ п/п","Наименование организации","Показатель","Ед. изм.",{"$f":"H3&\" \"&H2&\" \"&H1","v":"План 2018 Год"},"Факт 2018 Год","План 2019 Год","План 2020 Январь","План 2020 Февраль","План 2020 Март","План 2020 Апрель","План 2020 Май","План 2020 Июнь","План 2020 Июль","План 2020 Август","План 2020 Сентябрь","План 2020 Октябрь","План 2020 Ноябрь","План 2020 Декабрь","План 2020 Год"]
[null,null,null,1,2,3,4,5,6,7,8,9,10,11,12,13,14,15,16,17,18,19,20]
[null,null,null,"Всего",null,{"$f":"\"Заявленная мощность потребителей\"&IF(regionException_flag = 1, \", в т.ч.\",\"\")","v":"Заявленная мощность потребителей"},"МВт",{"$f":"SUMIF($F$15:$F$22,\"=\"&$F13,H$15:H$22)","v":0.21},0.15320899999999998,0.21,0.23809999999999998,0.23809999999999998,0.23809999999999998,0.23809999999999998,0.23809999999999998,0.23809999999999998,0.17809999999999998,0.17809999999999998,0.17809999999999998,0.17809999999999998,0.17809999999999998,0.17809999999999998,0.20810000000000006]
[]
[null,null,null,0]
[null,null,"О",1,"АО \"ДРСК\"",{"$f":"\"Заявленная мощность потребителей\"&IF(regionException_flag = 1, \", в т.ч.\",\"\")","v":"Заявленная мощность потребителей"},"МВт",0.14899999999999999,0.1087,0.14899999999999999,0.16500000000000001,0.16500000000000001,0.16500000000000001,0.16500000000000001,0.16500000000000001,0.16500000000000001,0.13200000000000001,0.13200000000000001,0.13200000000000001,0.13200000000000001,0.13200000000000001,0.13200000000000001,{"$f":"SUM(K16:V16)/12","v":0.14850000000000005}]
[]
[null,null,"О",2,"ОАО \"РЖД\"",{"$f":"\"Заявленная мощность потребителей\"&IF(regionException_flag = 1, \", в т.ч.\",\"\")","v":"Заявленная мощность потребителей"},"МВт",1E-3,7.2900000000000005E-4,1E-3,1E-4,1E-4,1E-4,1E-4,1E-4,1E-4,1E-4,1E-4,1E-4,1E-4,1E-4,1E-4,{"$f":"SUM(K18:V18)/12","v":1.0000000000000003E-4}]
[]
[null,null,"О",3,"ОАО \"Оборонэнерго\"",{"$f":"\"Заявленная мощность потребителей\"&IF(regionException_flag = 1, \", в т.ч.\",\"\")","v":"Заявленная мощность потребителей"},"МВт",0.06,4.3779999999999999E-2,0.06,7.2999999999999995E-2,7.2999999999999995E-2,7.2999999999999995E-2,7.2999999999999995E-2,7.2999999999999995E-2,7.2999999999999995E-2,4.5999999999999999E-2,4.5999999999999999E-2,4.5999999999999999E-2,4.5999999999999999E-2,4.5999999999999999E-2,4.5999999999999999E-2,{"$f":"SUM(K20:V20)/12","v":5.9500000000000018E-2}]
[]
[null,null,null,null,"Добавить организацию"]

{"sheet":"Субабоненты (кварталы)","index":7,"n_rows":20,"n_cols":11,"rows_kept":20,"cut":false,"hidden":false,"merged":[[19,2,20,2],[19,3,20,3],[19,4,20,4],[19,11,20,11],[15,11,16,11],[17,2,18,2],[17,3,18,3],[17,4,18,4],[17,11,18,11],[8,3,8,6],[12,3,13,4],[15,2,16,2],[15,3,16,3],[15,4,16,4]]}
[null,null,0,null,0,0,{"$f":"god","v":2020},"Год","Год","Год","Январь"]
[null,null,null,null,null,null,null,{"$f":"G1-2","v":2018},{"$f":"G1-2","v":2018},{"$f":"G1-1","v":2019},{"$f":"$G$1","v":2020}]
[null,null,null,null,null,null,null,"План","Факт","План","План"]
[]
[]
[]
[]
[]
[null,null,null,{"$f":"\"Предложения \" &org& \" по технологическому расходу электроэнергии (мощности) - потерям в электрических сетях на \"&god&\" год в регионе: \"&region_name & \" (поквартально)\"","v":"Предложения Хорольское муниципальное унитарное предприятие электрических сетей по технологическому расходу электроэнергии (мощности) - потерям в электрических сетях на 2020 год в регионе: Приморский край (поквартально)"}]
[]
[null,null,null,"№ п/п","Наименование организации","Показатель","Ед. изм.",{"$f":"\"I квартал \" & god","v":"I квартал 2020"},{"$f":"\"II квартал \" & god","v":"II квартал 2020"},{"$f":"\"III квартал \" & god","v":"III квартал 2020"},{"$f":"\"IV квартал \" & god","v":"IV квартал 2020"}]
[null,null,null,1,2,3,4,5,6,7,8]
[null,null,null,"Всего",null,{"$f":"\"Заявленная мощность потребителей\"&IF(regionException_flag = 1, \", в т.ч.\",\"\")","v":"Заявленная мощность потребителей"},"МВт",{"$f":"SUMIF($F$15:$F$22,$F13,H$15:H$22)","v":0.23809999999999998},0.23809999999999998,0.17810000000000001,0.17810000000000001]
[]
[null,null,null,0]
[null,null,null,{"$f":"Субабоненты!$D$16","v":1},{"$f":"Субабоненты!$E$16","v":"АО \"ДРСК\""},{"$f":"\"Заявленная мощность потребителей\"&IF(regionException_flag = 1, \", в т.ч.\",\"\")","v":"Заявленная мощность потребителей"},"МВт",{"$f":"(Субабоненты!K16+Субабоненты!L16+Субабоненты!M16)/3","v":0.16500000000000001},{"$f":"(Субабоненты!N16+Субабоненты!O16+Субабоненты!P16)/3","v":0.16500000000000001},{"$f":"(Субабоненты!Q16+Субабоненты!R16+Субабоненты!S16)/3","v":0.13200000000000001},{"$f":"(Субабоненты!T16+Субабоненты!U16+Субабоненты!V16)/3","v":0.13200000000000001}]
[]
[null,null,null,{"$f":"Субабоненты!$D$18","v":2},{"$f":"Субабоненты!$E$18","v":"ОАО \"РЖД\""},{"$f":"\"Заявленная мощность потребителей\"&IF(regionException_flag = 1, \", в т.ч.\",\"\")","v":"Заявленная мощность потребителей"},"МВт",{"$f":"(Субабоненты!K18+Субабоненты!L18+Субабоненты!M18)/3","v":1E-4},{"$f":"(Субабоненты!N18+Субабоненты!O18+Субабоненты!P18)/3","v":1E-4},{"$f":"(Субабоненты!Q18+Субабоненты!R18+Субабоненты!S18)/3","v":1E-4},{"$f":"(Субабоненты!T18+Субабоненты!U18+Субабоненты!V18)/3","v":1E-4}]
[]
[null,null,null,{"$f":"Субабоненты!$D$20","v":3},{"$f":"Субабоненты!$E$20","v":"ОАО \"Оборонэнерго\""},{"$f":"\"Заявленная мощность потребителей\"&IF(regionException_flag = 1, \", в т.ч.\",\"\")","v":"Заявленная мощность потребителей"},"МВт",{"$f":"(Субабоненты!K20+Субабоненты!L20+Субабоненты!M20)/3","v":7.2999999999999995E-2},{"$f":"(Субабоненты!N20+Субабоненты!O20+Субабоненты!P20)/3","v":7.2999999999999995E-2},{"$f":"(Субабоненты!Q20+Субабоненты!R20+Субабоненты!S20)/3","v":4.6000000000000006E-2},{"$f":"(Субабоненты!T20+Субабоненты!U20+Субабоненты!V20)/3","v":4.6000000000000006E-2}]

{"sheet":"Комментарии","index":8,"n_rows":7,"n_cols":4,"rows_kept":7,"cut":false,"hidden":false,"merged":[]}
[]
[]
[]
[]
[]
[]
[null,null,null,"Комментарии"]

{"sheet":"Проверка","index":9,"n_rows":4,"n_cols":4,"rows_kept":4,"cut":false,"hidden":false,"merged":[[1,1,1,3]]}
[]
[null,"Результат проверки"]
[]
[null,"Ссылка","Причина","Статус"]

{"sheet":"TEHSHEET","index":10,"n_rows":87,"n_cols":5,"rows_kept":87,"cut":false,"hidden":true,"merged":[]}
["REGION","year_list",null,"regionException","regionException_flag"]
["Алтайский край","2010",null,"Забайкальский край",0]
["Амурская область","2011",null,"Республика Бурятия"]
["Архангельская область","2012"]
["Астраханская область","2013"]
["Белгородская область","2014"]
["Брянская область","2015"]
["Владимирская область","2016"]
["Волгоградская область","2017"]
["Вологодская область","2018"]
["Воронежская область","2019"]
["г.Байконур"]
["г. Москва"]
["г.Санкт-Петербург"]
["г.Севастополь"]
["Еврейская автономная область"]
["Забайкальский край"]
["Ивановская область"]
["Иркутская область"]
["Кабардино-Балкарская республика"]
["Калининградская область"]
["Калужская область"]
["Камчатский край"]
["Карачаево-Черкесская республика"]
["Кемеровская область"]
["Кировская область"]
["Костромская область"]
["Краснодарский край"]
["Красноярский край"]
["Курганская область"]
["Курская область"]
["Ленинградская область"]
["Липецкая область"]
["Магаданская область"]
["Московская область"]
["Мурманская область"]
["Ненецкий автономный округ"]
["Нижегородская область"]
["Новгородская область"]
["Новосибирская область"]
["Омская область"]
["Оренбургская область"]
["Орловская область"]
["Пензенская область"]
["Пермский край"]
["Приморский край"]
["Псковская область"]
["Республика Адыгея"]
["Республика Алтай"]
["Республика Башкортостан"]
["Республика Бурятия"]
["Республика Дагестан"]
["Республика Ингушетия"]
["Республика Калмыкия"]
["Республика Карелия"]
["Республика Коми"]
["Республика Крым"]
["Республика Марий Эл"]
["Республика Мордовия"]
["Республика Саха (Якутия)"]
["Республика Северная Осетия-Алания"]
["Республика Татарстан"]
["Республика Тыва"]
["Республика Хакасия"]
["Ростовская область"]
["Рязанская область"]
["Самарская область"]
["Саратовская область"]
["Сахалинская область"]
["Свердловская область"]
["Смоленская область"]
["Ставропольский край"]
["Тамбовская область"]
["Тверская область"]
["Томская область"]
["Тульская область"]
["Тюменская область"]
["Удмуртская республика"]
["Ульяновская область"]
["Хабаровский край"]
["Ханты-Мансийский автономный округ"]
["Челябинская область"]
["Чеченская республика"]
["Чувашская республика"]
["Чукотский автономный округ"]
["Ямало-Ненецкий автономный округ"]
["Ярославская область"]

{"sheet":"AllSheetsInThisWorkbook","index":11,"n_rows":19,"n_cols":2,"rows_kept":19,"cut":false,"hidden":true,"merged":[]}
["Расчетные листы","Скрытые листы"]
["Инструкция","TEHSHEET"]
["Лог обновления","AllSheetsInThisWorkbook"]
["Титульный","et_union_hor"]
["Форма 3.1","modProv"]
["Форма 3.1 (кварталы)","modHTTP"]
["Форма 16","modReestr"]
["Субабоненты","modfrmReestr"]
["Субабоненты (кварталы)","modfrmRegion"]
["Комментарии","REESTR_ORG"]
["Проверка","modClassifierValidate"]
[null,"modHyp"]
[null,"modList00"]
[null,"modList03"]
[null,"modList04"]
[null,"modInstruction"]
[null,"modUpdTemplMain"]
[null,"modfrmCheckUpdates"]
[null,"modfrmDateChoose"]

{"sheet":"et_union_hor","index":12,"n_rows":8,"n_cols":23,"rows_kept":8,"cut":false,"hidden":true,"merged":[[2,23,3,23],[7,2,8,2],[7,3,8,3],[7,4,8,4],[7,11,8,11],[2,2,3,2],[2,3,3,3],[2,4,3,4]]}
["et_List04"]
[]
[null,null,null,null,null,{"$f":"\"Заявленная мощность потребителей\"&IF(regionException_flag = 1, \", в т.ч.\",\"\")","v":"Заявленная мощность потребителей"},"МВт",null,null,null,null,null,null,null,null,null,null,null,null,null,null,null,{"$f":"SUM(K3:V3)/12","v":0}]
[]
[]
["et_List05"]
[]
[null,null,null,null,null,{"$f":"\"Заявленная мощность потребителей\"&IF(regionException_flag = 1, \", в т.ч.\",\"\")","v":"Заявленная мощность потребителей"},"МВт",{"$f":"(Субабоненты!K8+Субабоненты!L8+Субабоненты!M8)/3","v":0},{"$f":"(Субабоненты!N8+Субабоненты!O8+Субабоненты!P8)/3","v":0},{"$f":"(Субабоненты!Q8+Субабоненты!R8+Субабоненты!S8)/3","v":0},{"$f":"(Субабоненты!T8+Субабоненты!U8+Субабоненты!V8)/3","v":0}]

{"sheet":"modProv","index":13,"n_rows":0,"n_cols":0,"rows_kept":0,"cut":false,"hidden":true,"merged":[]}

{"sheet":"modHTTP","index":14,"n_rows":0,"n_cols":0,"rows_kept":0,"cut":false,"hidden":true,"merged":[]}

{"sheet":"modReestr","index":15,"n_rows":0,"n_cols":0,"rows_kept":0,"cut":false,"hidden":true,"merged":[]}

{"sheet":"modfrmReestr","index":16,"n_rows":0,"n_cols":0,"rows_kept":0,"cut":false,"hidden":true,"merged":[]}

{"sheet":"modfrmRegion","index":17,"n_rows":0,"n_cols":0,"rows_kept":0,"cut":false,"hidden":true,"merged":[]}

{"sheet":"modfrmAuthorization","index":18,"n_rows":0,"n_cols":0,"rows_kept":0,"cut":false,"hidden":true,"merged":[]}

{"sheet":"modfrmDateChoose","index":19,"n_rows":0,"n_cols":0,"rows_kept":0,"cut":false,"hidden":true,"merged":[]}

{"sheet":"REESTR_ORG","index":20,"n_rows":35,"n_cols":8,"rows_kept":35,"cut":false,"hidden":true,"merged":[]}
["YEAR","REGION_NAME","ORG_NAME","INN","KPP","DATE_BEGIN","DATE_END","LAST_YEAR"]
[1,"Приморский край","АО \" Находкинский морской торговый порт\"","2508001449","250801001"]
[2,"Приморский край","АО \"Арсеньевэлектросервис\"","2501010388","250101001"]
[3,"Приморский край","АО \"Восточный Порт\"","2508001544","250801001"]
[4,"Приморский край","АО \"ДРСК\" филиал \"Приморские электрические сети\"","2801108200","253731001"]
[5,"Приморский край","АО \"Дальневосточная ресурсоснабжающая компания\"","2531006580","253101001"]
[6,"Приморский край","АО \"Кавалеровская электросеть\"","2515006938","251501001"]
[7,"Приморский край","АО \"Коммунэлектросервис\"","2505010540","250501001"]
[8,"Приморский край","АО \"МАПЭ\"","2520000498","252001001"]
[9,"Приморский край","АО \"Спасcкцемент\"","2510001238","251001001"]
[10,"Приморский край","АО \"Спасскэлектросеть\"","2510003066","251001001"]
[11,"Приморский край","АО «Электробытсервис»","2525007560","252501001"]
[12,"Приморский край","Дальневосточная дирекция по энергообеспечению – СП Трансэнерго - филиала ОАО \"РЖД\"","7708503727","272145007"]
[13,"Приморский край","МУП \"Уссурийск-Электросеть\" УГО","2511002019","251101001"]
[14,"Приморский край","МУПВ \"ВПЭС\"","2504000684","254250001"]
[15,"Приморский край","ООО \"Горэлектросеть\"","2543105000","254301001","01-01-2018 00:00:00"]
[16,"Приморский край","ООО \"Дальневосточные электрические сети\"","2543118351","254301001","01-01-2019 00:00:00"]
[17,"Приморский край","ООО \"Дальнереченская энергосетевая компания\"","2540231856","254001001","01-01-2019 00:00:00"]
[18,"Приморский край","ООО \"Инфраструктура\"","2509082391","250901001"]
[19,"Приморский край","ООО \"Кировская электросеть\"","2516606166","251601001"]
[20,"Приморский край","ООО \"Коммунальные сети\"","2507228334","250701001"]
[21,"Приморский край","ООО \"Приморский лесокомбинат\"","2506006716","250601001"]
[22,"Приморский край","ООО \"Промышленные энергосети Приморского края\"","2536285810","253601001","01-01-2017 00:00:00"]
[23,"Приморский край","ООО \"Распределительные энергетические сети\"","2503027852","250301001"]
[24,"Приморский край","ООО \"Спасскэлектроконтроль\"","2510007328","251001001"]
[25,"Приморский край","ООО \"Стройтехэнерго\"","2521013796","252101001","01-01-2019 00:00:00"]
[26,"Приморский край","ООО \"Территориальная энергосетевая компания\"","2508113752","250801001"]
[27,"Приморский край","ООО \"УК ПВЭСиК\"","2526007193","252601001"]
[28,"Приморский край","ООО \"Энергетические сети Преображения\"","2518117509","251801001"]
[29,"Приморский край","ООО \"Энергия\"","2533008938","253301001"]
[30,"Приморский край","ООО «АЭСК»","2502046690","250201001"]
[31,"Приморский край","Октябрьское районное муниципальное унитарное предприятие электрических сетей","2522042180","252201001"]
[32,"Приморский край","ПАО \"Аскольд\"","2501001009","250101001","01-01-2017 00:00:00"]
[33,"Приморский край","Филиал \"Приморский\" АО \"Оборонэнерго\"","7704726225","253643001"]
[34,"Приморский край","Хорольское муниципальное унитарное предприятие электрических сетей","2532002210","253201001"]

{"sheet":"modClassifierValidate","index":21,"n_rows":0,"n_cols":0,"rows_kept":0,"cut":false,"hidden":true,"merged":[]}

{"sheet":"modHyp","index":22,"n_rows":0,"n_cols":0,"rows_kept":0,"cut":false,"hidden":true,"merged":[]}

{"sheet":"modList00","index":23,"n_rows":0,"n_cols":0,"rows_kept":0,"cut":false,"hidden":true,"merged":[]}

{"sheet":"modList03","index":24,"n_rows":0,"n_cols":0,"rows_kept":0,"cut":false,"hidden":true,"merged":[]}

{"sheet":"modList04","index":25,"n_rows":0,"n_cols":0,"rows_kept":0,"cut":false,"hidden":true,"merged":[]}

{"sheet":"modInstruction","index":26,"n_rows":0,"n_cols":0,"rows_kept":0,"cut":false,"hidden":true,"merged":[]}

{"sheet":"modUpdTemplMain","index":27,"n_rows":0,"n_cols":0,"rows_kept":0,"cut":false,"hidden":true,"merged":[]}

{"sheet":"modfrmCheckUpdates","index":28,"n_rows":0,"n_cols":0,"rows_kept":0,"cut":false,"hidden":true,"merged":[]}